BEGIN:VCALENDAR
VERSION:2.0
PRODID:-//81.169.145.72//NONSGML kigkonsult.se iCalcreator 2.20//
CALSCALE:GREGORIAN
METHOD:PUBLISH
X-WR-TIMEZONE:Europe/Berlin
BEGIN:VEVENT
UID:event164@Frauentouren
DTSTAMP:20260425T042149Z
CATEGORIES:Führung
DESCRIPTION:Hohenschönhausen\nKategorie: Führung\nICS-Link: https://www.fra
 uentouren.de/index.php?option=com_jem&view=event&id=164:hohenschoenhausen-
 verfolgte-versteckt\n
DTSTART;TZID=Europe/Berlin:20260518T180000
DTEND;TZID=Europe/Berlin:20260518T180000
SUMMARY:Hohenschönhausen
URL:https://www.frauentouren.de/index.php?option=com_jem&view=event&id=164:
 hohenschoenhausen-verfolgte-versteckt
END:VEVENT
END:VCALENDAR